BEGIN:VCALENDAR
VERSION:2.0
PRODID:-//arran4//Golang ICS Library
METHOD:PUBLISH
NAME:MALABAR TRAIL RUN
X-WR-CALNAME:MALABAR TRAIL RUN
DESCRIPTION:Calendar for MALABAR TRAIL RUN
TIMEZONE-ID:Asia/Jakarta
BEGIN:VEVENT
UID:4fa99cd3-1c99-43cb-aea9-dfcb1ee3b57e
CREATED:20260419T062030Z
DTSTAMP:20260421T105558Z
LAST-MODIFIED:20260421T060638Z
SUMMARY:MALABAR TRAIL RUN
DESCRIPTION:Find more events at https://mymindisracing.com
DTSTART:20260419T000000Z
LOCATION:Gunung Puntang\, JB\, ID
GEO:-7.466667;107.766667
X-APPLE-STRUCTURED-LOCATION;VALUE=URI:geo:-7.466667,107.766667
X-TITLE:MALABAR TRAIL RUN
URL:https://itra.run/Races/RaceDetails/MALABAR.TRAIL.RUN.MTR.MEGA.42K/2026/
 113841
END:VEVENT
END:VCALENDAR
