BEGIN:VCALENDAR
VERSION:2.0
PRODID:-//arran4//Golang ICS Library
METHOD:PUBLISH
NAME:Right Choice Virgin Parish Relay Meet
X-WR-CALNAME:Right Choice Virgin Parish Relay Meet
DESCRIPTION:Calendar for Right Choice Virgin Parish Relay Meet
TIMEZONE-ID:America/Grenada
BEGIN:VEVENT
UID:4f278f74-a0d6-44aa-befb-247f4ac6a9df
CREATED:20260420T063056Z
DTSTAMP:20260421T103314Z
LAST-MODIFIED:20260421T062008Z
SUMMARY:Right Choice Virgin Parish Relay Meet
DESCRIPTION:Find more events at https://mymindisracing.com
DTSTART;TZID=America/Grenada:20260516T140000
LOCATION:La Sagesse Beach Road\, Saint David\, GD
GEO:12.0306491;-61.6716697
X-APPLE-STRUCTURED-LOCATION;VALUE=URI:geo:12.030649,-61.671670
X-TITLE:Right Choice Virgin Parish Relay Meet
URL:https://raceroster.com/events/2026/100286/right-choice-virgin-parish-re
 lay-meet
END:VEVENT
END:VCALENDAR
