BEGIN:VCALENDAR
VERSION:2.0
PRODID:-//arran4//Golang ICS Library
METHOD:PUBLISH
NAME:Cheile Turzii Race
X-WR-CALNAME:Cheile Turzii Race
DESCRIPTION:Calendar for Cheile Turzii Race
TIMEZONE-ID:Europe/Bucharest
BEGIN:VEVENT
UID:4e8ab1e6-d0e8-4253-8704-23b15e023810
CREATED:20260419T062047Z
DTSTAMP:20260421T105732Z
LAST-MODIFIED:20260421T060640Z
SUMMARY:Cheile Turzii Race
DESCRIPTION:Find more events at https://mymindisracing.com
DTSTART:20260418T000000Z
LOCATION:Turda\, CJ\, RO
GEO:46.5685214;23.7853643
X-APPLE-STRUCTURED-LOCATION;VALUE=URI:geo:46.568521,23.785364
X-TITLE:Cheile Turzii Race
URL:https://itra.run/Races/RaceDetails/Cheile.Turzii.Race.Semimaraton/2026/
 105920
END:VEVENT
END:VCALENDAR
