BEGIN:VCALENDAR
VERSION:2.0
PRODID:-//arran4//Golang ICS Library
METHOD:PUBLISH
NAME:Seward Freedom Run - 2026
X-WR-CALNAME:Seward Freedom Run - 2026
DESCRIPTION:Calendar for Seward Freedom Run - 2026
TIMEZONE-ID:America/Chicago
BEGIN:VEVENT
UID:4de7a2ea-497b-49c9-b72d-886aa39c0cd3
CREATED:20260420T064503Z
DTSTAMP:20260421T105824Z
LAST-MODIFIED:20260421T063302Z
SUMMARY:Seward Freedom Run - 2026
DESCRIPTION:Find more events at https://mymindisracing.com
DTSTART;TZID=America/Chicago:20260704T070000
LOCATION:2716 Waverly Road\, Seward County\, NE\, 68434\, US
GEO:40.9305313;-97.085841
X-APPLE-STRUCTURED-LOCATION;VALUE=URI:geo:40.930531,-97.085841
X-TITLE:Seward Freedom Run - 2026
URL:https://raceroster.com/events/2026/116890/seward-freedom-run-2026
END:VEVENT
END:VCALENDAR
