BEGIN:VCALENDAR
VERSION:2.0
PRODID:-//arran4//Golang ICS Library
METHOD:PUBLISH
NAME:Divas Galveston Half Marathon & 5K
X-WR-CALNAME:Divas Galveston Half Marathon & 5K
DESCRIPTION:Calendar for Divas Galveston Half Marathon & 5K
TIMEZONE-ID:America/Chicago
BEGIN:VEVENT
UID:49f2eb31-3da4-491e-b83e-6e8b0febce22
CREATED:20260423T060010Z
DTSTAMP:20260424T075911Z
LAST-MODIFIED:20260424T060008Z
SUMMARY:Divas Galveston Half Marathon & 5K
DESCRIPTION:Find more events at https://mymindisracing.com
DTSTART;TZID=America/Chicago:20260426T010000
DTEND;TZID=America/Chicago:20260426T235900
LOCATION:Seawall\, Galveston\, TX\, 77554\, US
GEO:29.247917;-94.85871
X-APPLE-STRUCTURED-LOCATION;VALUE=URI:geo:29.247917,-94.858710
X-TITLE:Beach Central in Galveston
URL:https://divasrun.com/
END:VEVENT
END:VCALENDAR
