BEGIN:VCALENDAR
VERSION:2.0
PRODID:-//arran4//Golang ICS Library
METHOD:PUBLISH
NAME:Chesley Community Classic
X-WR-CALNAME:Chesley Community Classic
DESCRIPTION:Calendar for Chesley Community Classic
TIMEZONE-ID:America/Toronto
BEGIN:VEVENT
UID:48fca084-d5fe-490e-9215-df4108f9349b
CREATED:20260420T064254Z
DTSTAMP:20260421T105732Z
LAST-MODIFIED:20260421T061112Z
SUMMARY:Chesley Community Classic
DESCRIPTION:Find more events at https://mymindisracing.com
DTSTART;TZID=America/Toronto:20260523T070000
LOCATION:100 4th Street NW\, Chesley\, ON\, N0G 1L0\, CA
GEO:44.3025791;-81.0967515
X-APPLE-STRUCTURED-LOCATION;VALUE=URI:geo:44.302579,-81.096751
X-TITLE:Chesley Community Classic
URL:http://www.chesleycommunityclassic.com/
END:VEVENT
END:VCALENDAR
