BEGIN:VCALENDAR
VERSION:2.0
PRODID:-//arran4//Golang ICS Library
METHOD:PUBLISH
NAME:YYG Runway Run 2026
X-WR-CALNAME:YYG Runway Run 2026
DESCRIPTION:Calendar for YYG Runway Run 2026
TIMEZONE-ID:America/Halifax
BEGIN:VEVENT
UID:482ff3a1-3312-443a-a4cb-96d51be6b803
CREATED:20260420T063631Z
DTSTAMP:20260421T141009Z
LAST-MODIFIED:20260421T061422Z
SUMMARY:YYG Runway Run 2026
DESCRIPTION:Find more events at https://mymindisracing.com
DTSTART;TZID=America/Halifax:20260509T090000
LOCATION:Brackley Trail\, Charlottetown\, PE\, CA
GEO:46.2797209;-63.1323342
X-APPLE-STRUCTURED-LOCATION;VALUE=URI:geo:46.279721,-63.132334
X-TITLE:YYG Runway Run 2026
URL:https://raceroster.com/events/2026/118292/yyg-runway-run-2026
END:VEVENT
END:VCALENDAR
