BEGIN:VCALENDAR
VERSION:2.0
PRODID:-//arran4//Golang ICS Library
METHOD:PUBLISH
NAME:SOS
X-WR-CALNAME:SOS
DESCRIPTION:Calendar for SOS
TIMEZONE-ID:Australia/Sydney
BEGIN:VEVENT
UID:4799f01a-7d21-4fb6-ad5e-08e3a2be0542
CREATED:20260420T062829Z
DTSTAMP:20260421T105742Z
LAST-MODIFIED:20260421T062244Z
SUMMARY:SOS
DESCRIPTION:Find more events at https://mymindisracing.com
DTSTART;TZID=Australia/Sydney:20260612T090000
LOCATION:58 Glover Street\, Lilyfield\, NSW\, 2040\, AU
GEO:-33.8693558;151.1562016
X-APPLE-STRUCTURED-LOCATION;VALUE=URI:geo:-33.869356,151.156202
X-TITLE:SOS
URL:https://www.boldhorizons.com.au/
END:VEVENT
END:VCALENDAR
