BEGIN:VCALENDAR
VERSION:2.0
PRODID:-//arran4//Golang ICS Library
METHOD:PUBLISH
NAME:Go4Broke 2026
X-WR-CALNAME:Go4Broke 2026
DESCRIPTION:Calendar for Go4Broke 2026
TIMEZONE-ID:Australia/Sydney
BEGIN:VEVENT
UID:46e685cf-ba37-4f5e-abf5-eec4a3c6eebf
CREATED:20260420T062549Z
DTSTAMP:20260421T105558Z
LAST-MODIFIED:20260421T061901Z
SUMMARY:Go4Broke 2026
DESCRIPTION:Find more events at https://mymindisracing.com
DTSTART;TZID=Australia/Sydney:20260918T054500
LOCATION:37 Berowra Waters Road\, Berowra\, NSW\, 2081\, AU
GEO:-33.6234576;151.1474689
X-APPLE-STRUCTURED-LOCATION;VALUE=URI:geo:-33.623458,151.147469
X-TITLE:Go4Broke 2026
URL:https://goforbroke.org.au/
END:VEVENT
END:VCALENDAR
