BEGIN:VCALENDAR
VERSION:2.0
PRODID:-//arran4//Golang ICS Library
METHOD:PUBLISH
NAME:Rureifel Trail
X-WR-CALNAME:Rureifel Trail
DESCRIPTION:Calendar for Rureifel Trail
TIMEZONE-ID:Europe/Berlin
BEGIN:VEVENT
UID:46724eab-04d9-4401-88a2-95ec2a2691f2
CREATED:20260419T062059Z
DTSTAMP:20260421T105742Z
LAST-MODIFIED:20260421T060640Z
SUMMARY:Rureifel Trail
DESCRIPTION:Find more events at https://mymindisracing.com
DTSTART:20260418T000000Z
LOCATION:Nideggen\, NW\, 52385\, DE
GEO:50.6913559;6.482614
X-APPLE-STRUCTURED-LOCATION;VALUE=URI:geo:50.691356,6.482614
X-TITLE:Rureifel Trail
URL:https://itra.run/Races/RaceDetails/Rureifel.Trail.RET77/2026/110641
END:VEVENT
END:VCALENDAR
