BEGIN:VCALENDAR
VERSION:2.0
PRODID:-//arran4//Golang ICS Library
METHOD:PUBLISH
NAME:2026 Tomato Festival 5K Run/Walk
X-WR-CALNAME:2026 Tomato Festival 5K Run/Walk
DESCRIPTION:Calendar for 2026 Tomato Festival 5K Run/Walk
TIMEZONE-ID:America/Chicago
BEGIN:VEVENT
UID:449d4f75-a544-4456-8020-48f7c186ab63
CREATED:20260420T063453Z
DTSTAMP:20260421T105936Z
LAST-MODIFIED:20260421T062324Z
SUMMARY:2026 Tomato Festival 5K Run/Walk
DESCRIPTION:Find more events at https://mymindisracing.com
DTSTART;TZID=America/Chicago:20260627T070000
LOCATION:501 Lee Avenue\, Crystal Springs\, MS\, 39059\, US
GEO:31.988173;-90.354044
X-APPLE-STRUCTURED-LOCATION;VALUE=URI:geo:31.988173,-90.354044
X-TITLE:2026 Tomato Festival 5K Run/Walk
URL:https://www.facebook.com/tomatofestival5k/
END:VEVENT
END:VCALENDAR
