BEGIN:VCALENDAR
VERSION:2.0
PRODID:-//arran4//Golang ICS Library
METHOD:PUBLISH
NAME:Deltaville 5k & Fun Run
X-WR-CALNAME:Deltaville 5k & Fun Run
DESCRIPTION:Calendar for Deltaville 5k & Fun Run
TIMEZONE-ID:America/New_York
BEGIN:VEVENT
UID:4447d0b5-ac0f-40f5-a10a-b4d3cf2881f1
CREATED:20260420T064011Z
DTSTAMP:20260421T105823Z
LAST-MODIFIED:20260421T061826Z
SUMMARY:Deltaville 5k & Fun Run
DESCRIPTION:Find more events at https://mymindisracing.com
DTSTART;TZID=America/New_York:20260704T071500
LOCATION:17147 General Puller Highway\, Middlesex County\, VA\, 23043\, US
GEO:37.5544361;-76.3410456
X-APPLE-STRUCTURED-LOCATION;VALUE=URI:geo:37.554436,-76.341046
X-TITLE:Deltaville 5k & Fun Run
URL:https://dvl5k.com/
END:VEVENT
END:VCALENDAR
