BEGIN:VCALENDAR
VERSION:2.0
PRODID:-//arran4//Golang ICS Library
METHOD:PUBLISH
NAME:The Fun Run in Support of the Alberta Children's Hospital Foundation
X-WR-CALNAME:The Fun Run in Support of the Alberta Children's Hospital
  Foundation
DESCRIPTION:Calendar for The Fun Run in Support of the Alberta Children's
  Hospital Foundation
TIMEZONE-ID:America/Edmonton
BEGIN:VEVENT
UID:408bafff-9e50-49bb-9074-1e8a8e9dc820
CREATED:20260420T064031Z
DTSTAMP:20260422T163543Z
LAST-MODIFIED:20260422T063823Z
SUMMARY:The Fun Run in Support of the Alberta Children's Hospital
  Foundation
DESCRIPTION:Find more events at https://mymindisracing.com
DTSTART;TZID=America/Edmonton:20260530T100000
LOCATION:5003 16 Avenue NW\, Calgary\, AB\, CA
GEO:51.0724526;-114.1652422
X-APPLE-STRUCTURED-LOCATION;VALUE=URI:geo:51.072453,-114.165242
X-TITLE:The Fun Run in Support of the Alberta Children's Hospital
  Foundation
URL:https://raceroster.com/events/2026/119214/the-fun-run-in-support-of-the
 -alberta-childrens-hospital-foundation
END:VEVENT
END:VCALENDAR
