BEGIN:VCALENDAR
VERSION:2.0
PRODID:-//arran4//Golang ICS Library
METHOD:PUBLISH
NAME:Tough Tater Duathlon sponsored by Subaru of Charlottetown
X-WR-CALNAME:Tough Tater Duathlon sponsored by Subaru of Charlottetown
DESCRIPTION:Calendar for Tough Tater Duathlon sponsored by Subaru of
  Charlottetown
TIMEZONE-ID:America/Halifax
BEGIN:VEVENT
UID:3fd18045-d494-4213-a170-eb55817012b2
CREATED:20260420T062714Z
DTSTAMP:20260421T105905Z
LAST-MODIFIED:20260421T062203Z
SUMMARY:Tough Tater Duathlon sponsored by Subaru of Charlottetown
DESCRIPTION:Find more events at https://mymindisracing.com
DTSTART;TZID=America/Halifax:20260524T073000
LOCATION:1548 Route 19\, Rural Municipality Of Afton\, PE\, CA
GEO:46.1685357;-63.2279124
X-APPLE-STRUCTURED-LOCATION;VALUE=URI:geo:46.168536,-63.227912
X-TITLE:Tough Tater Duathlon sponsored by Subaru of Charlottetown
URL:https://tripei.ca/
END:VEVENT
END:VCALENDAR
