BEGIN:VCALENDAR
VERSION:2.0
PRODID:-//arran4//Golang ICS Library
METHOD:PUBLISH
NAME:MILO Breakfast Day Kelantan 2026 (Team)
X-WR-CALNAME:MILO Breakfast Day Kelantan 2026 (Team)
DESCRIPTION:Calendar for MILO Breakfast Day Kelantan 2026 (Team)
TIMEZONE-ID:Asia/Kuala_Lumpur
BEGIN:VEVENT
UID:3ec64f39-2644-4857-b761-3b5ad9401bfb
CREATED:20260420T062714Z
DTSTAMP:20260421T105905Z
LAST-MODIFIED:20260421T061953Z
SUMMARY:MILO Breakfast Day Kelantan 2026 (Team)
DESCRIPTION:Find more events at https://mymindisracing.com
DTSTART;TZID=Asia/Kuala_Lumpur:20260626T070000
LOCATION:Jalan KK 5/1\, Kubang Kerian\, 03\, 15200\, MY
GEO:6.0991349;102.2857486
X-APPLE-STRUCTURED-LOCATION;VALUE=URI:geo:6.099135,102.285749
X-TITLE:MILO Breakfast Day Kelantan 2026 (Team)
URL:https://raceroster.com/events/2026/118194/milo-breakfast-day-kelantan-2
 026-team
END:VEVENT
END:VCALENDAR
