BEGIN:VCALENDAR
VERSION:2.0
PRODID:-//arran4//Golang ICS Library
METHOD:PUBLISH
NAME:Just Live Fun Run 2026
X-WR-CALNAME:Just Live Fun Run 2026
DESCRIPTION:Calendar for Just Live Fun Run 2026
TIMEZONE-ID:America/Halifax
BEGIN:VEVENT
UID:3eb4d4ae-3177-4e94-9dd9-e86a62c54691
CREATED:20260420T064625Z
DTSTAMP:20260421T104626Z
LAST-MODIFIED:20260421T062847Z
SUMMARY:Just Live Fun Run 2026
DESCRIPTION:Find more events at https://mymindisracing.com
DTSTART;TZID=America/Halifax:20260823T080000
LOCATION:29 Cornwall Road\, Cornwall\, PE\, C0A 1H4\, CA
GEO:46.2305526;-63.2173314
X-APPLE-STRUCTURED-LOCATION;VALUE=URI:geo:46.230553,-63.217331
X-TITLE:Just Live Fun Run 2026
URL:https://raceroster.com/events/2026/114335/just-live-fun-run-2026
END:VEVENT
END:VCALENDAR
