BEGIN:VCALENDAR
VERSION:2.0
PRODID:-//arran4//Golang ICS Library
METHOD:PUBLISH
NAME:Eltham Fun Run and Walk 2026
X-WR-CALNAME:Eltham Fun Run and Walk 2026
DESCRIPTION:Calendar for Eltham Fun Run and Walk 2026
TIMEZONE-ID:Australia/Melbourne
BEGIN:VEVENT
UID:3dcfd9d3-f06a-4c98-96fd-d3a6d97d9b58
CREATED:20260420T064018Z
DTSTAMP:20260423T122051Z
LAST-MODIFIED:20260423T061224Z
SUMMARY:Eltham Fun Run and Walk 2026
DESCRIPTION:Find more events at https://mymindisracing.com
DTSTART;TZID=Australia/Melbourne:20261114T080000
LOCATION:40 Brougham Street\, Eltham\, VIC\, 3095\, AU
GEO:-37.7223657;145.1420557
X-APPLE-STRUCTURED-LOCATION;VALUE=URI:geo:-37.722366,145.142056
X-TITLE:Eltham Fun Run and Walk 2026
URL:https://raceroster.com/events/2026/119495/eltham-fun-run-and-walk-2026
END:VEVENT
END:VCALENDAR
