BEGIN:VCALENDAR
VERSION:2.0
PRODID:-//arran4//Golang ICS Library
METHOD:PUBLISH
NAME:Bonshaw Trail Races
X-WR-CALNAME:Bonshaw Trail Races
DESCRIPTION:Calendar for Bonshaw Trail Races
TIMEZONE-ID:America/Halifax
BEGIN:VEVENT
UID:3c46f05d-64ce-4739-81fd-aa1f4bd8974d
CREATED:20260420T064726Z
DTSTAMP:20260421T105732Z
LAST-MODIFIED:20260421T063643Z
SUMMARY:Bonshaw Trail Races
DESCRIPTION:Find more events at https://mymindisracing.com
DTSTART;TZID=America/Halifax:20260802T080000
LOCATION:Strathgartney Park Road\, Rural Municipality Of Bonshaw\, PE\, CA
GEO:46.2140276;-63.3358721
X-APPLE-STRUCTURED-LOCATION;VALUE=URI:geo:46.214028,-63.335872
X-TITLE:Bonshaw Trail Races
URL:https://www.facebook.com/RedIsleTrailRunning/
END:VEVENT
END:VCALENDAR
