BEGIN:VCALENDAR
VERSION:2.0
PRODID:-//arran4//Golang ICS Library
METHOD:PUBLISH
NAME:Memorial Day 5k 2026
X-WR-CALNAME:Memorial Day 5k 2026
DESCRIPTION:Calendar for Memorial Day 5k 2026
TIMEZONE-ID:America/New_York
BEGIN:VEVENT
UID:3be1d063-82b3-4fb3-8850-c8e7fab1bf6c
CREATED:20260420T064325Z
DTSTAMP:20260423T110941Z
LAST-MODIFIED:20260423T061610Z
SUMMARY:Memorial Day 5k 2026
DESCRIPTION:Find more events at https://mymindisracing.com
DTSTART;TZID=America/New_York:20260525T080000
LOCATION:2042 Park Avenue\, Orange Park\, FL\, 32073\, US
GEO:30.1649277;-81.7017256
X-APPLE-STRUCTURED-LOCATION;VALUE=URI:geo:30.164928,-81.701726
X-TITLE:Memorial Day 5k 2026
URL:https://floridastriders.com/
END:VEVENT
END:VCALENDAR
