BEGIN:VCALENDAR
VERSION:2.0
PRODID:-//arran4//Golang ICS Library
METHOD:PUBLISH
NAME:Clear Lake Sprint and Olympic Triathlon
X-WR-CALNAME:Clear Lake Sprint and Olympic Triathlon
DESCRIPTION:Calendar for Clear Lake Sprint and Olympic Triathlon
TIMEZONE-ID:America/Indiana/Indianapolis
BEGIN:VEVENT
UID:3b456bae-c160-4cb9-b423-ce2805cd9ec7
CREATED:20260420T060012Z
DTSTAMP:20260421T105031Z
LAST-MODIFIED:20260421T060017Z
SUMMARY:Clear Lake Sprint and Olympic Triathlon
DESCRIPTION:Find more events at https://mymindisracing.com
DTSTART;TZID=America/Indiana/Indianapolis:20260606T080000
DTEND;TZID=America/Indiana/Indianapolis:20260606T130000
LOCATION:630 E Clear Lake Dr\, Fremont\, IN\, 46737\, US
GEO:41.731519;-84.822964
X-APPLE-STRUCTURED-LOCATION;VALUE=URI:geo:41.731519,-84.822964
X-TITLE:Clear Lake Pub and Beach
URL:https://www.ruble.racing
END:VEVENT
END:VCALENDAR
