BEGIN:VCALENDAR
VERSION:2.0
PRODID:-//arran4//Golang ICS Library
METHOD:PUBLISH
NAME:Trail de Juliau
X-WR-CALNAME:Trail de Juliau
DESCRIPTION:Calendar for Trail de Juliau
TIMEZONE-ID:Europe/Paris
BEGIN:VEVENT
UID:3aea867d-5d3a-477b-8e17-ce38ac063422
CREATED:20260419T062037Z
DTSTAMP:20260421T105905Z
LAST-MODIFIED:20260421T060639Z
SUMMARY:Trail de Juliau
DESCRIPTION:Find more events at https://mymindisracing.com
DTSTART:20260419T000000Z
LOCATION:Saint Jean Le Centenier\, ARA\, 07580\, FR
GEO:44.591;4.53414
X-APPLE-STRUCTURED-LOCATION;VALUE=URI:geo:44.591000,4.534140
X-TITLE:Trail de Juliau
URL:https://itra.run/Races/RaceDetails/Trail.de.Juliau.La.Basaltique/2026/1
 11345
END:VEVENT
END:VCALENDAR
