BEGIN:VCALENDAR
VERSION:2.0
PRODID:-//arran4//Golang ICS Library
METHOD:PUBLISH
NAME:MILO Breakfast Day Terengganu 2026 (Individual)
X-WR-CALNAME:MILO Breakfast Day Terengganu 2026 (Individual)
DESCRIPTION:Calendar for MILO Breakfast Day Terengganu 2026 (Individual)
TIMEZONE-ID:Asia/Kuala_Lumpur
BEGIN:VEVENT
UID:396b08a4-0da9-496d-9ca5-c0610032b424
CREATED:20260420T064127Z
DTSTAMP:20260421T105732Z
LAST-MODIFIED:20260421T060746Z
SUMMARY:MILO Breakfast Day Terengganu 2026 (Individual)
DESCRIPTION:Find more events at https://mymindisracing.com
DTSTART;TZID=Asia/Kuala_Lumpur:20260605T070000
LOCATION:Jalan Ketapang Pantai Baru\, Kuala Terengganu\, 11\, 20000\, MY
GEO:5.3397365;103.1449583
X-APPLE-STRUCTURED-LOCATION;VALUE=URI:geo:5.339736,103.144958
X-TITLE:MILO Breakfast Day Terengganu 2026 (Individual)
URL:https://raceroster.com/events/2026/118133/milo-breakfast-day-terengganu
 -2026-individual
END:VEVENT
END:VCALENDAR
