BEGIN:VCALENDAR
VERSION:2.0
PRODID:-//arran4//Golang ICS Library
METHOD:PUBLISH
NAME:Running Of The Steers
X-WR-CALNAME:Running Of The Steers
DESCRIPTION:Calendar for Running Of The Steers
TIMEZONE-ID:America/Halifax
BEGIN:VEVENT
UID:394c00c7-9e75-46df-8479-1464382f50dd
CREATED:20260420T063947Z
DTSTAMP:20260421T110024Z
LAST-MODIFIED:20260421T061443Z
SUMMARY:Running Of The Steers
DESCRIPTION:Find more events at https://mymindisracing.com
DTSTART;TZID=America/Halifax:20260712T090000
LOCATION:831 Main Street\, Municipality Of The County Of Kings\, NS\, CA
GEO:44.992604;-64.9385439
X-APPLE-STRUCTURED-LOCATION;VALUE=URI:geo:44.992604,-64.938544
X-TITLE:Running Of The Steers
URL:https://raceroster.com/events/2023/75602/running-of-the-steers
END:VEVENT
END:VCALENDAR
