BEGIN:VCALENDAR
VERSION:2.0
PRODID:-//arran4//Golang ICS Library
METHOD:PUBLISH
NAME:Tiquitrail Race y Race 13k Santa Teresa
X-WR-CALNAME:Tiquitrail Race y Race 13k Santa Teresa
DESCRIPTION:Calendar for Tiquitrail Race y Race 13k Santa Teresa
TIMEZONE-ID:America/Caracas
BEGIN:VEVENT
UID:3817b4a5-1a0d-4024-8f2c-c00604affc2e
CREATED:20260419T062101Z
DTSTAMP:20260421T105650Z
LAST-MODIFIED:20260421T060641Z
SUMMARY:Tiquitrail Race y Race 13k Santa Teresa
DESCRIPTION:Find more events at https://mymindisracing.com
DTSTART:20260418T000000Z
LOCATION:El Consejo\, D\, 2118\, VE
GEO:10.2374456;-67.2719939
X-APPLE-STRUCTURED-LOCATION;VALUE=URI:geo:10.237446,-67.271994
X-TITLE:Tiquitrail Race y Race 13k Santa Teresa
URL:https://itra.run/Races/RaceDetails/Tiquitrail.Race.y.Race.13k.Santa.Ter
 esa.Tiquitrail..Race.27k/2026/115292
END:VEVENT
END:VCALENDAR
