BEGIN:VCALENDAR
VERSION:2.0
PRODID:-//arran4//Golang ICS Library
METHOD:PUBLISH
NAME:Rtanj Vertikal
X-WR-CALNAME:Rtanj Vertikal
DESCRIPTION:Calendar for Rtanj Vertikal
TIMEZONE-ID:Europe/Belgrade
BEGIN:VEVENT
UID:36699d37-8034-4e6d-856c-d7907de88eec
CREATED:20260419T062058Z
DTSTAMP:20260421T105558Z
LAST-MODIFIED:20260421T060640Z
SUMMARY:Rtanj Vertikal
DESCRIPTION:Find more events at https://mymindisracing.com
DTSTART:20260418T000000Z
LOCATION:Rtanj\, 15\, RS
GEO:43.7760071;21.8937805
X-APPLE-STRUCTURED-LOCATION;VALUE=URI:geo:43.776007,21.893780
X-TITLE:Rtanj Vertikal
URL:https://itra.run/Races/RaceDetails/Rtanj.Vertikal.Jugoistocni.greben/20
 26/115006
END:VEVENT
END:VCALENDAR
