BEGIN:VCALENDAR
VERSION:2.0
PRODID:-//arran4//Golang ICS Library
METHOD:PUBLISH
NAME:Allan & Tracy MacKenzie Memorial 5K Walk/Run for Autism
X-WR-CALNAME:Allan & Tracy MacKenzie Memorial 5K Walk/Run for Autism
DESCRIPTION:Calendar for Allan & Tracy MacKenzie Memorial 5K Walk/Run for
  Autism
TIMEZONE-ID:America/Halifax
BEGIN:VEVENT
UID:364ad506-e78b-44ba-862a-83aeb5c32459
CREATED:20260420T064225Z
DTSTAMP:20260421T135258Z
LAST-MODIFIED:20260421T061953Z
SUMMARY:Allan & Tracy MacKenzie Memorial 5K Walk/Run for Autism
DESCRIPTION:Find more events at https://mymindisracing.com
DTSTART;TZID=America/Halifax:20260524T100000
LOCATION:89 Kent Street\, Charlottetown\, PE\, CA
GEO:46.2351531;-63.1299625
X-APPLE-STRUCTURED-LOCATION;VALUE=URI:geo:46.235153,-63.129962
X-TITLE:Allan & Tracy MacKenzie Memorial 5K Walk/Run for Autism
URL:https://www.projectlifesaverpei.ca/
END:VEVENT
END:VCALENDAR
