BEGIN:VCALENDAR
VERSION:2.0
PRODID:-//arran4//Golang ICS Library
METHOD:PUBLISH
NAME:Run For The Goal 5K
X-WR-CALNAME:Run For The Goal 5K
DESCRIPTION:Calendar for Run For The Goal 5K
TIMEZONE-ID:America/Port_of_Spain
BEGIN:VEVENT
UID:33c4ddf2-1cdd-401c-9881-30a2eb8f2b42
CREATED:20260420T064813Z
DTSTAMP:20260421T105742Z
LAST-MODIFIED:20260421T061154Z
SUMMARY:Run For The Goal 5K
DESCRIPTION:Find more events at https://mymindisracing.com
DTSTART;TZID=America/Port_of_Spain:20260704T060000
LOCATION:426 Valencia Main Road\, Valencia\, SGE\, TT
GEO:10.654303;-61.197218
X-APPLE-STRUCTURED-LOCATION;VALUE=URI:geo:10.654303,-61.197218
X-TITLE:Run For The Goal 5K
URL:http://powerpairproduction.com
END:VEVENT
END:VCALENDAR
