BEGIN:VCALENDAR
VERSION:2.0
PRODID:-//arran4//Golang ICS Library
METHOD:PUBLISH
NAME:9th Annual Courtney Roderick Run For Recovery
X-WR-CALNAME:9th Annual Courtney Roderick Run For Recovery
DESCRIPTION:Calendar for 9th Annual Courtney Roderick Run For Recovery
TIMEZONE-ID:America/New_York
BEGIN:VEVENT
UID:30717cdc-fd09-4342-af51-2f0afbd28549
CREATED:20260420T062925Z
DTSTAMP:20260421T105727Z
LAST-MODIFIED:20260421T061622Z
SUMMARY:9th Annual Courtney Roderick Run For Recovery
DESCRIPTION:Find more events at https://mymindisracing.com
DTSTART;TZID=America/New_York:20260725T080000
LOCATION:1848 Main Road\, Tiverton\, RI\, 02878\, US
GEO:41.6251772;-71.2129396
X-APPLE-STRUCTURED-LOCATION;VALUE=URI:geo:41.625177,-71.212940
X-TITLE:9th Annual Courtney Roderick Run For Recovery
URL:https://www.courtneyroderick5k.com/
END:VEVENT
END:VCALENDAR
