BEGIN:VCALENDAR
VERSION:2.0
PRODID:-//arran4//Golang ICS Library
METHOD:PUBLISH
NAME:King Turkey Day 5K/10K
X-WR-CALNAME:King Turkey Day 5K/10K
DESCRIPTION:Calendar for King Turkey Day 5K/10K
TIMEZONE-ID:America/Chicago
BEGIN:VEVENT
UID:2e7f5ddc-647a-46b6-9a30-913cafb0fb96
CREATED:20260420T064325Z
DTSTAMP:20260421T105732Z
LAST-MODIFIED:20260421T063022Z
SUMMARY:King Turkey Day 5K/10K
DESCRIPTION:Find more events at https://mymindisracing.com
DTSTART;TZID=America/Chicago:20260919T090000
LOCATION:700 10th Street\, Worthington\, MN\, 56187\, US
GEO:43.622732;-95.600204
X-APPLE-STRUCTURED-LOCATION;VALUE=URI:geo:43.622732,-95.600204
X-TITLE:King Turkey Day 5K/10K
URL:https://forwardworthington.com/king-turkey-day-races/
END:VEVENT
END:VCALENDAR
