BEGIN:VCALENDAR
VERSION:2.0
PRODID:-//arran4//Golang ICS Library
METHOD:PUBLISH
NAME:INDEPENDENCE DAY RUN 2026 - BAGUIO CITY
X-WR-CALNAME:INDEPENDENCE DAY RUN 2026 - BAGUIO CITY
DESCRIPTION:Calendar for INDEPENDENCE DAY RUN 2026 - BAGUIO CITY
TIMEZONE-ID:Asia/Manila
BEGIN:VEVENT
UID:2e598e55-ce82-4ef8-9002-e2f43963b6b7
CREATED:20260420T063137Z
DTSTAMP:20260421T105620Z
LAST-MODIFIED:20260421T063528Z
SUMMARY:INDEPENDENCE DAY RUN 2026 - BAGUIO CITY
DESCRIPTION:Find more events at https://mymindisracing.com
DTSTART;TZID=Asia/Manila:20260613T030000
LOCATION:Lake Drive\, Baguio\, 15\, 2600\, PH
GEO:16.4122379;120.594545
X-APPLE-STRUCTURED-LOCATION;VALUE=URI:geo:16.412238,120.594545
X-TITLE:INDEPENDENCE DAY RUN 2026 - BAGUIO CITY
URL:https://www.facebook.com/TimeTrialEventsManagement
END:VEVENT
END:VCALENDAR
