BEGIN:VCALENDAR
VERSION:2.0
PRODID:-//arran4//Golang ICS Library
METHOD:PUBLISH
NAME:Run Calgary x Fluid Projects Plogging & Ale Trail
X-WR-CALNAME:Run Calgary x Fluid Projects Plogging & Ale Trail
DESCRIPTION:Calendar for Run Calgary x Fluid Projects Plogging & Ale Trail
TIMEZONE-ID:America/Edmonton
BEGIN:VEVENT
UID:2d0ab640-6671-4faa-a069-60cedbad0c78
CREATED:20260420T062629Z
DTSTAMP:20260422T181446Z
LAST-MODIFIED:20260422T063105Z
SUMMARY:Run Calgary x Fluid Projects Plogging & Ale Trail
DESCRIPTION:Find more events at https://mymindisracing.com
DTSTART;TZID=America/Edmonton:20260423T180000
LOCATION:1901 10 Avenue SW\, Calgary\, AB\, CA
GEO:51.0442164;-114.1044242
X-APPLE-STRUCTURED-LOCATION;VALUE=URI:geo:51.044216,-114.104424
X-TITLE:Run Calgary x Fluid Projects Plogging & Ale Trail
URL:http://www.runyyc.ca/
END:VEVENT
END:VCALENDAR
