BEGIN:VCALENDAR
VERSION:2.0
PRODID:-//arran4//Golang ICS Library
METHOD:PUBLISH
NAME:Run for Bradford 2026
X-WR-CALNAME:Run for Bradford 2026
DESCRIPTION:Calendar for Run for Bradford 2026
TIMEZONE-ID:America/Toronto
BEGIN:VEVENT
UID:2c67c8b2-887a-46fc-97d3-c30c26e5257e
CREATED:20260420T064220Z
DTSTAMP:20260421T105619Z
LAST-MODIFIED:20260421T061627Z
SUMMARY:Run for Bradford 2026
DESCRIPTION:Find more events at https://mymindisracing.com
DTSTART;TZID=America/Toronto:20260607T073000
LOCATION:Brian Collier Way\, Bradford\, ON\, L3Z 3B9\, CA
GEO:44.1108024;-79.5834403
X-APPLE-STRUCTURED-LOCATION;VALUE=URI:geo:44.110802,-79.583440
X-TITLE:Run for Bradford 2026
URL:https://runforbradford.ca/
END:VEVENT
END:VCALENDAR
