BEGIN:VCALENDAR
VERSION:2.0
PRODID:-//arran4//Golang ICS Library
METHOD:PUBLISH
NAME:Gran Fondo Baie Sainte-Marie 2026
X-WR-CALNAME:Gran Fondo Baie Sainte-Marie 2026
DESCRIPTION:Calendar for Gran Fondo Baie Sainte-Marie 2026
TIMEZONE-ID:America/Halifax
BEGIN:VEVENT
UID:2b9524dd-fbd0-4a1a-b2dd-4c2fc05f71f7
CREATED:20260420T064306Z
DTSTAMP:20260421T105936Z
LAST-MODIFIED:20260421T063012Z
SUMMARY:Gran Fondo Baie Sainte-Marie 2026
DESCRIPTION:Find more events at https://mymindisracing.com
DTSTART;TZID=America/Halifax:20260913T080000
LOCATION:Highway 1\, Digby County\, NS\, CA
GEO:44.255957;-66.1286163
X-APPLE-STRUCTURED-LOCATION;VALUE=URI:geo:44.255957,-66.128616
X-TITLE:Gran Fondo Baie Sainte-Marie 2026
URL:https://www.granfondobaiesaintemarie.ca/en/
END:VEVENT
END:VCALENDAR
