BEGIN:VCALENDAR
VERSION:2.0
PRODID:-//arran4//Golang ICS Library
METHOD:PUBLISH
NAME:Hot Diggity Dog 5K Run / Walk & 1 Mile Dog Walk
X-WR-CALNAME:Hot Diggity Dog 5K Run / Walk & 1 Mile Dog Walk
DESCRIPTION:Calendar for Hot Diggity Dog 5K Run / Walk & 1 Mile Dog Walk
TIMEZONE-ID:America/Chicago
BEGIN:VEVENT
UID:2b8df80e-aa00-4ce2-aa57-b1667e58f666
CREATED:20260420T063457Z
DTSTAMP:20260421T141447Z
LAST-MODIFIED:20260421T062025Z
SUMMARY:Hot Diggity Dog 5K Run / Walk & 1 Mile Dog Walk
DESCRIPTION:Find more events at https://mymindisracing.com
DTSTART;TZID=America/Chicago:20260516T080000
LOCATION:Eastover Drive\, Jackson\, MS\, 39211\, US
GEO:32.3434478;-90.1555648
X-APPLE-STRUCTURED-LOCATION;VALUE=URI:geo:32.343448,-90.155565
X-TITLE:Hot Diggity Dog 5K Run / Walk & 1 Mile Dog Walk
URL:https://www.gallanthearts.org/
END:VEVENT
END:VCALENDAR
