BEGIN:VCALENDAR
VERSION:2.0
PRODID:-//arran4//Golang ICS Library
METHOD:PUBLISH
NAME:San Salvador El Salvador Marathon -11/20/2026
X-WR-CALNAME:San Salvador El Salvador Marathon -11/20/2026
DESCRIPTION:Calendar for San Salvador El Salvador Marathon -11/20/2026
TIMEZONE-ID:America/El_Salvador
BEGIN:VEVENT
UID:2b8bdde4-689d-47cd-9e07-4488543f4fa6
CREATED:20260420T064238Z
DTSTAMP:20260421T105620Z
LAST-MODIFIED:20260421T061306Z
SUMMARY:San Salvador El Salvador Marathon -11/20/2026
DESCRIPTION:Find more events at https://mymindisracing.com
DTSTART;TZID=America/El_Salvador:20261120T040000
LOCATION:Senda Peatonal Y Ciclista\, Antiguo Cuscatlán\, LI\, 1502\, SV
GEO:13.6897271;-89.2514793
X-APPLE-STRUCTURED-LOCATION;VALUE=URI:geo:13.689727,-89.251479
X-TITLE:San Salvador El Salvador Marathon -11/20/2026
URL:https://raceroster.com/events/2026/118607/san-salvador-el-salvador-mara
 thon-11202026
END:VEVENT
END:VCALENDAR
