BEGIN:VCALENDAR
VERSION:2.0
PRODID:-//arran4//Golang ICS Library
METHOD:PUBLISH
NAME:IslandKids Adventure Summer Camp 2026
X-WR-CALNAME:IslandKids Adventure Summer Camp 2026
DESCRIPTION:Calendar for IslandKids Adventure Summer Camp 2026
TIMEZONE-ID:America/Grenada
BEGIN:VEVENT
UID:2b72b799-2858-4d03-9635-adfdedaab909
CREATED:20260420T063442Z
DTSTAMP:20260421T135319Z
LAST-MODIFIED:20260421T062052Z
SUMMARY:IslandKids Adventure Summer Camp 2026
DESCRIPTION:Find more events at https://mymindisracing.com
DTSTART;TZID=America/Grenada:20260727T080000
LOCATION:P.O. Box 519\, St.George'S\, 03\, GD
GEO:12.0535331;-61.751805
X-APPLE-STRUCTURED-LOCATION;VALUE=URI:geo:12.053533,-61.751805
X-TITLE:IslandKids Adventure Summer Camp 2026
URL:https://www.islandkidsgnd.com/
END:VEVENT
END:VCALENDAR
