BEGIN:VCALENDAR
VERSION:2.0
PRODID:-//arran4//Golang ICS Library
METHOD:PUBLISH
NAME:9th Annual McFarland USA 5k & 10K \, 1 mile Special Needs
X-WR-CALNAME:9th Annual McFarland USA 5k & 10K \, 1 mile Special Needs
DESCRIPTION:Calendar for 9th Annual McFarland USA 5k & 10K \, 1 mile
  Special Needs
TIMEZONE-ID:America/Los_Angeles
BEGIN:VEVENT
UID:2b6b3c83-e68c-4c77-a352-57cc84db2ea8
CREATED:20260422T060017Z
DTSTAMP:20260423T093544Z
LAST-MODIFIED:20260423T060006Z
SUMMARY:9th Annual McFarland USA 5k & 10K \, 1 mile Special Needs
DESCRIPTION:Find more events at https://mymindisracing.com
DTSTART;TZID=America/Los_Angeles:20260425T070000
DTEND;TZID=America/Los_Angeles:20260425T125900
LOCATION:E. Sherwood Ave\, Mcfarland\, CA\, 93250\, US
GEO:35.674434;-119.223184
X-APPLE-STRUCTURED-LOCATION;VALUE=URI:geo:35.674434,-119.223184
X-TITLE:Jim White "Blanco" Park
URL:http://www.active.com/mcfarland-ca/running/distance-running-races/9th-a
 nnual-mcfarland-usa-5k-and-10k-1-mile-special-needs-2026
END:VEVENT
END:VCALENDAR
