BEGIN:VCALENDAR
VERSION:2.0
PRODID:-//arran4//Golang ICS Library
METHOD:PUBLISH
NAME:Caraquet Adrenaline Caraquet
X-WR-CALNAME:Caraquet Adrenaline Caraquet
DESCRIPTION:Calendar for Caraquet Adrenaline Caraquet
TIMEZONE-ID:America/Moncton
BEGIN:VEVENT
UID:2b1ad6d4-4451-4eef-9ff0-0182e2180231
CREATED:20260420T063055Z
DTSTAMP:20260421T105619Z
LAST-MODIFIED:20260421T061300Z
SUMMARY:Caraquet Adrenaline Caraquet
DESCRIPTION:Find more events at https://mymindisracing.com
DTSTART;TZID=America/Moncton:20260606T090000
LOCATION:Colisée Léopold-Foulem\, Rue Du Colisée\, Caraquet\, NB\, CA
GEO:47.788365;-64.9630022
X-APPLE-STRUCTURED-LOCATION;VALUE=URI:geo:47.788365,-64.963002
X-TITLE:Caraquet Adrenaline Caraquet
URL:https://raceroster.com/events/2026/114857/caraquet-adrenaline-caraquet
END:VEVENT
END:VCALENDAR
