BEGIN:VCALENDAR
VERSION:2.0
PRODID:-//arran4//Golang ICS Library
METHOD:PUBLISH
NAME:Inspira Eco Run Nonoai
X-WR-CALNAME:Inspira Eco Run Nonoai
DESCRIPTION:Calendar for Inspira Eco Run Nonoai
TIMEZONE-ID:America/Sao_Paulo
BEGIN:VEVENT
UID:2a3cc069-3773-47f8-ad9f-41b1e3893c97
CREATED:20260419T062027Z
DTSTAMP:20260421T105910Z
LAST-MODIFIED:20260421T060638Z
SUMMARY:Inspira Eco Run Nonoai
DESCRIPTION:Find more events at https://mymindisracing.com
DTSTART:20260419T000000Z
LOCATION:Nonoai\, RS\, 99600-000\, BR
GEO:-27.3660882;-52.7717853
X-APPLE-STRUCTURED-LOCATION;VALUE=URI:geo:-27.366088,-52.771785
X-TITLE:Inspira Eco Run Nonoai
URL:https://itra.run/Races/RaceDetails/Inspira.Eco.Run.Nonoai.25.km/2026/11
 7653
END:VEVENT
END:VCALENDAR
