BEGIN:VCALENDAR
VERSION:2.0
PRODID:-//arran4//Golang ICS Library
METHOD:PUBLISH
NAME:GRMB 2026 - Gravel/Mountain Bike Extravaganza
X-WR-CALNAME:GRMB 2026 - Gravel/Mountain Bike Extravaganza
DESCRIPTION:Calendar for GRMB 2026 - Gravel/Mountain Bike Extravaganza
BEGIN:VEVENT
UID:29b90388-6cf4-4aa8-8165-434880699c13
CREATED:20260423T060038Z
DTSTAMP:20260423T133533Z
LAST-MODIFIED:20260423T060038Z
SUMMARY:GRMB 2026 - Gravel/Mountain Bike Extravaganza
DESCRIPTION:Find more events at https://mymindisracing.com
DTSTART:20260826T183000Z
DTEND:20260826T210000Z
LOCATION:Whitehorse\, YT\, CA
GEO:60.72701;-135.09614
X-APPLE-STRUCTURED-LOCATION;VALUE=URI:geo:60.727010,-135.096140
X-TITLE:GRMB 2026 - Gravel/Mountain Bike Extravaganza
URL:https://velonorthyukon.ca
END:VEVENT
END:VCALENDAR
