BEGIN:VCALENDAR
VERSION:2.0
PRODID:-//arran4//Golang ICS Library
METHOD:PUBLISH
NAME:Boots on the Meridian 5K - Cattlemen's Ball 2026
X-WR-CALNAME:Boots on the Meridian 5K - Cattlemen's Ball 2026
DESCRIPTION:Calendar for Boots on the Meridian 5K - Cattlemen's Ball 2026
TIMEZONE-ID:America/Chicago
BEGIN:VEVENT
UID:26c79b49-f427-4f5f-8e14-4556537031fe
CREATED:20260420T063316Z
DTSTAMP:20260421T110100Z
LAST-MODIFIED:20260421T061648Z
SUMMARY:Boots on the Meridian 5K - Cattlemen's Ball 2026
DESCRIPTION:Find more events at https://mymindisracing.com
DTSTART;TZID=America/Chicago:20260606T073000
LOCATION:D Street\, Cozad\, NE\, 69130\, US
GEO:40.8679911;-99.9831457
X-APPLE-STRUCTURED-LOCATION;VALUE=URI:geo:40.867991,-99.983146
X-TITLE:Boots on the Meridian 5K - Cattlemen's Ball 2026
URL:https://cattlemensball.com/
END:VEVENT
END:VCALENDAR
