BEGIN:VCALENDAR
VERSION:2.0
PRODID:-//arran4//Golang ICS Library
METHOD:PUBLISH
NAME:Learn to Ride Australia
X-WR-CALNAME:Learn to Ride Australia
DESCRIPTION:Calendar for Learn to Ride Australia
TIMEZONE-ID:Australia/Melbourne
BEGIN:VEVENT
UID:26279ed5-0cd9-443c-bfe8-24e2482bd4eb
CREATED:20260420T063340Z
DTSTAMP:20260421T105732Z
LAST-MODIFIED:20260421T063622Z
SUMMARY:Learn to Ride Australia
DESCRIPTION:Find more events at https://mymindisracing.com
DTSTART;TZID=Australia/Melbourne:20260621T120000
LOCATION:256 Darebin Road\, Fairfield\, VIC\, 3078\, AU
GEO:-37.765708;145.0224999
X-APPLE-STRUCTURED-LOCATION;VALUE=URI:geo:-37.765708,145.022500
X-TITLE:Learn to Ride Australia
URL:https://ausbike.au:443/
END:VEVENT
END:VCALENDAR
