BEGIN:VCALENDAR
VERSION:2.0
PRODID:-//arran4//Golang ICS Library
METHOD:PUBLISH
NAME:LAROUSSIA TRAIL FESTIVAL 2
X-WR-CALNAME:LAROUSSIA TRAIL FESTIVAL 2
DESCRIPTION:Calendar for LAROUSSIA TRAIL FESTIVAL 2
TIMEZONE-ID:Africa/Tunis
BEGIN:VEVENT
UID:2476a2f6-4bd2-4f6b-bf8c-4672a71f105f
CREATED:20260422T062437Z
DTSTAMP:20260423T094530Z
LAST-MODIFIED:20260423T060332Z
SUMMARY:LAROUSSIA TRAIL FESTIVAL 2
DESCRIPTION:Find more events at https://mymindisracing.com
DTSTART:20260412T000000Z
LOCATION:El Aroussia\, 14\, TN
GEO:36.7919189;9.7451434
X-APPLE-STRUCTURED-LOCATION;VALUE=URI:geo:36.791919,9.745143
X-TITLE:LAROUSSIA TRAIL FESTIVAL 2
URL:https://itra.run/Races/RaceDetails/LAROUSSIA.TRAIL.FESTIVAL.2.LA.MAGNUM
 /2026/113624
END:VEVENT
END:VCALENDAR
