BEGIN:VCALENDAR
VERSION:2.0
PRODID:-//arran4//Golang ICS Library
METHOD:PUBLISH
NAME:The 14th Annual MacDuffie Run For Hope
X-WR-CALNAME:The 14th Annual MacDuffie Run For Hope
DESCRIPTION:Calendar for The 14th Annual MacDuffie Run For Hope
TIMEZONE-ID:America/New_York
BEGIN:VEVENT
UID:240f6702-7f9d-4a2f-8a4c-308ba525bedb
CREATED:20260422T060014Z
DTSTAMP:20260423T093611Z
LAST-MODIFIED:20260423T060005Z
SUMMARY:The 14th Annual MacDuffie Run For Hope
DESCRIPTION:Find more events at https://mymindisracing.com
DTSTART;TZID=America/New_York:20260425T090000
DTEND;TZID=America/New_York:20260425T120000
LOCATION:66 School St\, Granby\, MA\, 01033\, US
GEO:42.26889;-72.474081
X-APPLE-STRUCTURED-LOCATION;VALUE=URI:geo:42.268890,-72.474081
X-TITLE:Granby\, MA
URL:http://www.active.com/granby-ma/running/distance-running-races/the-14th
 -annual-macduffie-run-for-hope-2026
END:VEVENT
END:VCALENDAR
