BEGIN:VCALENDAR
VERSION:2.0
PRODID:-//arran4//Golang ICS Library
METHOD:PUBLISH
NAME:Asan Sinjeongho International Ultramarathon
X-WR-CALNAME:Asan Sinjeongho International Ultramarathon
DESCRIPTION:Calendar for Asan Sinjeongho International Ultramarathon
TIMEZONE-ID:Asia/Seoul
BEGIN:VEVENT
UID:23a2c23e-e799-46d7-9b96-e9eb8c8a1525
CREATED:20260419T062046Z
DTSTAMP:20260421T105558Z
LAST-MODIFIED:20260421T060640Z
SUMMARY:Asan Sinjeongho International Ultramarathon
DESCRIPTION:Find more events at https://mymindisracing.com
DTSTART:20260418T000000Z
LOCATION:Asan\, 44\, KR
GEO:36.7899498;127.0026769
X-APPLE-STRUCTURED-LOCATION;VALUE=URI:geo:36.789950,127.002677
X-TITLE:Asan Sinjeongho International Ultramarathon
URL:https://itra.run/Races/RaceDetails/Asan.Sinjeongho.International.Ultram
 arathon.100km/2026/113707
END:VEVENT
END:VCALENDAR
