BEGIN:VCALENDAR
VERSION:2.0
PRODID:-//arran4//Golang ICS Library
METHOD:PUBLISH
NAME:Chester Chipmunk's Trail Run Challenge
X-WR-CALNAME:Chester Chipmunk's Trail Run Challenge
DESCRIPTION:Calendar for Chester Chipmunk's Trail Run Challenge
TIMEZONE-ID:America/Halifax
BEGIN:VEVENT
UID:21d310ff-1a44-4ab7-abb1-5d8d68f21612
CREATED:20260420T062711Z
DTSTAMP:20260421T105732Z
LAST-MODIFIED:20260421T061448Z
SUMMARY:Chester Chipmunk's Trail Run Challenge
DESCRIPTION:Find more events at https://mymindisracing.com
DTSTART;TZID=America/Halifax:20260711T083000
LOCATION:Vetrans Way\, Trenton\, NS\, CA
GEO:45.6221979;-62.6270802
X-APPLE-STRUCTURED-LOCATION;VALUE=URI:geo:45.622198,-62.627080
X-TITLE:Chester Chipmunk's Trail Run Challenge
URL:http://chesterstrailchallenge
END:VEVENT
END:VCALENDAR
