BEGIN:VCALENDAR
VERSION:2.0
PRODID:-//arran4//Golang ICS Library
METHOD:PUBLISH
NAME:Wild Lakes 10K
X-WR-CALNAME:Wild Lakes 10K
DESCRIPTION:Calendar for Wild Lakes 10K
TIMEZONE-ID:America/Halifax
BEGIN:VEVENT
UID:20fc5cf2-208f-4c60-bf42-069a6e43478f
CREATED:20260420T064217Z
DTSTAMP:20260421T154623Z
LAST-MODIFIED:20260421T061154Z
SUMMARY:Wild Lakes 10K
DESCRIPTION:Find more events at https://mymindisracing.com
DTSTART;TZID=America/Halifax:20260503T090000
LOCATION:91 Saskatoon Drive\, Halifax\, NS\, CA
GEO:44.6925282;-63.6935563
X-APPLE-STRUCTURED-LOCATION;VALUE=URI:geo:44.692528,-63.693556
X-TITLE:Wild Lakes 10K
URL:https://urbantrailracing.com
END:VEVENT
END:VCALENDAR
