BEGIN:VCALENDAR
VERSION:2.0
PRODID:-//arran4//Golang ICS Library
METHOD:PUBLISH
NAME:Kicking PancreAS™ 5K - Prince Edward Island
X-WR-CALNAME:Kicking PancreAS™ 5K - Prince Edward Island
DESCRIPTION:Calendar for Kicking PancreAS™ 5K - Prince Edward Island
TIMEZONE-ID:America/Halifax
BEGIN:VEVENT
UID:1ebd5ca2-d416-4c4b-b136-da2f68fcf278
CREATED:20260420T062857Z
DTSTAMP:20260421T141453Z
LAST-MODIFIED:20260421T061847Z
SUMMARY:Kicking PancreAS™ 5K - Prince Edward Island
DESCRIPTION:Find more events at https://mymindisracing.com
DTSTART;TZID=America/Halifax:20260502T183000
LOCATION:Confederation Trail\, Charlottetown\, PE\, CA
GEO:46.2409898;-63.1193339
X-APPLE-STRUCTURED-LOCATION;VALUE=URI:geo:46.240990,-63.119334
X-TITLE:Kicking PancreAS™ 5K - Prince Edward Island
URL:https://raceroster.com/events/2026/113875/kicking-pancreas-5k-prince-ed
 ward-island
END:VEVENT
END:VCALENDAR
