BEGIN:VCALENDAR
VERSION:2.0
PRODID:-//arran4//Golang ICS Library
METHOD:PUBLISH
NAME:2026 Southern Lakes Yukon Gran Fondo
X-WR-CALNAME:2026 Southern Lakes Yukon Gran Fondo
DESCRIPTION:Calendar for 2026 Southern Lakes Yukon Gran Fondo
BEGIN:VEVENT
UID:1d93ab57-1568-4cd6-bc8e-18d0453a0b48
CREATED:20260422T060408Z
DTSTAMP:20260423T093904Z
LAST-MODIFIED:20260423T060042Z
SUMMARY:2026 Southern Lakes Yukon Gran Fondo
DESCRIPTION:Find more events at https://mymindisracing.com
DTSTART:20260606T093000Z
DTEND:20260606T170000Z
LOCATION:Yukon\, YT\, CA
GEO:60.5151;-134.32861
X-APPLE-STRUCTURED-LOCATION;VALUE=URI:geo:60.515100,-134.328610
X-TITLE:2026 Southern Lakes Yukon Gran Fondo
URL:http://yukoncycling.com
END:VEVENT
END:VCALENDAR
