BEGIN:VCALENDAR
VERSION:2.0
PRODID:-//arran4//Golang ICS Library
METHOD:PUBLISH
NAME:2026 yimengshan road Race
X-WR-CALNAME:2026 yimengshan road Race
DESCRIPTION:Calendar for 2026 yimengshan road Race
TIMEZONE-ID:Asia/Shanghai
BEGIN:VEVENT
UID:1d2b7b64-befd-4e15-bd39-84664b495001
CREATED:20260419T062104Z
DTSTAMP:20260421T104737Z
LAST-MODIFIED:20260421T060641Z
SUMMARY:2026 yimengshan road Race
DESCRIPTION:Find more events at https://mymindisracing.com
DTSTART:20260412T000000Z
LOCATION:Linyi\, SD\, CN
GEO:35.1032403;118.3506988
X-APPLE-STRUCTURED-LOCATION;VALUE=URI:geo:35.103240,118.350699
X-TITLE:2026 yimengshan road Race
URL:https://itra.run/Races/RaceDetails/2026.yimengshan.road.Race.42km/2026/
 113272
END:VEVENT
END:VCALENDAR
